BEGIN:VCALENDAR
VERSION:2.0
PRODID:-//Autism Resource Center - ECPv6.15.20//NONSGML v1.0//EN
CALSCALE:GREGORIAN
METHOD:PUBLISH
X-ORIGINAL-URL:https://www.autismresourcecentral.org
X-WR-CALDESC:Events for Autism Resource Center
REFRESH-INTERVAL;VALUE=DURATION:PT1H
X-Robots-Tag:noindex
X-PUBLISHED-TTL:PT1H
BEGIN:VTIMEZONE
TZID:America/Halifax
BEGIN:DAYLIGHT
TZOFFSETFROM:-0400
TZOFFSETTO:-0300
TZNAME:ADT
DTSTART:20240310T060000
END:DAYLIGHT
BEGIN:STANDARD
TZOFFSETFROM:-0300
TZOFFSETTO:-0400
TZNAME:AST
DTSTART:20241103T050000
END:STANDARD
BEGIN:DAYLIGHT
TZOFFSETFROM:-0400
TZOFFSETTO:-0300
TZNAME:ADT
DTSTART:20250309T060000
END:DAYLIGHT
BEGIN:STANDARD
TZOFFSETFROM:-0300
TZOFFSETTO:-0400
TZNAME:AST
DTSTART:20251102T050000
END:STANDARD
BEGIN:DAYLIGHT
TZOFFSETFROM:-0400
TZOFFSETTO:-0300
TZNAME:ADT
DTSTART:20260308T060000
END:DAYLIGHT
BEGIN:STANDARD
TZOFFSETFROM:-0300
TZOFFSETTO:-0400
TZNAME:AST
DTSTART:20261101T050000
END:STANDARD
END:VTIMEZONE
BEGIN:VEVENT
DTSTART;TZID=America/Halifax:20250301T100000
DTEND;TZID=America/Halifax:20250301T120000
DTSTAMP:20260419T085406
CREATED:20250220T191903Z
LAST-MODIFIED:20250220T191903Z
UID:8509-1740823200-1740830400@www.autismresourcecentral.org
SUMMARY:Princess Tea Party
DESCRIPTION:Join the WPI Moments of Magic Princess for a tea party \nOpen to children ages 3-12yrs and 1 Caregiver \n  \n 
URL:https://www.autismresourcecentral.org/event/princess-tea-party/
LOCATION:Autism Resource Central\, 712 Plantation St.\,\, Worcester\, MA\, 01605\, United States
CATEGORIES:FAMILIES,KIDS,PARENTS
END:VEVENT
BEGIN:VEVENT
DTSTART;TZID=America/Halifax:20250304T160000
DTEND;TZID=America/Halifax:20250304T180000
DTSTAMP:20260419T085406
CREATED:20250301T223803Z
LAST-MODIFIED:20250301T224844Z
UID:8517-1741104000-1741111200@www.autismresourcecentral.org
SUMMARY:ASD Adults: Card & Board Games\, 3/4/25
DESCRIPTION:Come and join the fun and play one of our 10 new board games or enjoy playing an old favorite. \n  \nhttps://lp.constantcontactpages.com/ev/reg/5k9ck84
URL:https://www.autismresourcecentral.org/event/asd-adults-card-board-games-3-4-25/
LOCATION:Autism Resource Central\, 712 Plantation St.\,\, Worcester\, MA\, 01605\, United States
CATEGORIES:ADULTS
END:VEVENT
BEGIN:VEVENT
DTSTART;TZID=America/Halifax:20250307T170000
DTEND;TZID=America/Halifax:20250307T190000
DTSTAMP:20260419T085406
CREATED:20250220T193658Z
LAST-MODIFIED:20250220T193658Z
UID:8513-1741366800-1741374000@www.autismresourcecentral.org
SUMMARY:Sonic the Hedge Hog/Sold Out
DESCRIPTION:Sold Out
URL:https://www.autismresourcecentral.org/event/sonic-the-hedge-hog-sold-out/
LOCATION:Autism Resource Central\, 712 Plantation St.\,\, Worcester\, MA\, 01605\, United States
CATEGORIES:FAMILIES,KIDS,PARENTS
END:VEVENT
BEGIN:VEVENT
DTSTART;TZID=America/Halifax:20250308T150000
DTEND;TZID=America/Halifax:20250308T170000
DTSTAMP:20260419T085406
CREATED:20250220T192418Z
LAST-MODIFIED:20250220T192418Z
UID:8510-1741446000-1741453200@www.autismresourcecentral.org
SUMMARY:Teen and Young Adult Bowling
DESCRIPTION:Bowling and Pizza \nOpen to Teens and Young Adults \nMust be accompanied by a caregiver \nMUST BE DEPT OF DEVELOPMENTAL SERVICES ELIGIBLE TO ATTEND
URL:https://www.autismresourcecentral.org/event/teen-and-young-adult-bowling/
LOCATION:Hopedale Community House\, 43 Hope Street\, Hopedale\, MA\, 01747\, United States
CATEGORIES:FAMILIES,PARENTS,Teens,TEENS/YOUNG ADULTS
END:VEVENT
BEGIN:VEVENT
DTSTART;TZID=America/Halifax:20250309T123000
DTEND;TZID=America/Halifax:20250309T143000
DTSTAMP:20260419T085406
CREATED:20250215T002856Z
LAST-MODIFIED:20250215T010403Z
UID:8500-1741523400-1741530600@www.autismresourcecentral.org
SUMMARY:ASD Adults: Bowling and Pizza\, 3/9/25
DESCRIPTION:Join us for a fun Sunday afternoon for Bowling and Pizza at the Hopedale Community Center. https://lp.constantcontactpages.com/ev/reg/za2ftpx
URL:https://www.autismresourcecentral.org/event/asd-adults-bowling-and-pizza-3-9-25/
LOCATION:Autism Resource Central\, 712 Plantation St.\,\, Worcester\, MA\, 01605\, United States
CATEGORIES:ADULTS
END:VEVENT
BEGIN:VEVENT
DTSTART;TZID=America/Halifax:20250316T103000
DTEND;TZID=America/Halifax:20250316T153000
DTSTAMP:20260419T085406
CREATED:20250214T221923Z
LAST-MODIFIED:20250214T221923Z
UID:8499-1742121000-1742139000@www.autismresourcecentral.org
SUMMARY:ASD Adults: Boston Aquarium\, March 16\, 2025
DESCRIPTION:Join us for a fun day at the Boston Aquarium. Transportation is provided from and back to the Center by a transport company. DDS ASD Adult Autism Eligibility is required for this event. This is a Lottery Event due to the high amount of interest and limited space. To be included in the Lottery drawing for this event\, contact Dianne on or before Friday\, 2/28/25 and please state if you feel you need to bring a support person to this event so they will be counted in https://lp.constantcontactpages.com/ev/reg/xbhdw6t number of available spaces. Names will be drawn on Monday 3/1/25 and those individuals will be notified at that time.
URL:https://www.autismresourcecentral.org/event/asd-adults-boston-aquarium-march-16-2025/
LOCATION:Autism Resource Central\, 712 Plantation St.\,\, Worcester\, MA\, 01605\, United States
CATEGORIES:ADULTS
END:VEVENT
BEGIN:VEVENT
DTSTART;TZID=America/Halifax:20250318T183000
DTEND;TZID=America/Halifax:20250318T193000
DTSTAMP:20260419T085406
CREATED:20250227T205929Z
LAST-MODIFIED:20250227T210008Z
UID:8516-1742322600-1742326200@www.autismresourcecentral.org
SUMMARY:Workshop: MA Blue Envelope Program
DESCRIPTION:Blue Envelope Program – Virtual Workshop\nOpen to teens aged 15+ and their parents/caregivers\nTuesday March 18\, 2025\n6:30 – 7:30 PM \nJoin State Trooper Derek Henneberry to learn about the Massachusetts Blue Envelope Program. The Blue Envelope Program is an effort to ease communication between individuals on the autism spectrum and law enforcement during motor vehicle operator interactions. \nPlease join us to learn: \n\nHow to obtain your Blue Envelope\nHow to prepare your Envelope\nTips for safe traffic stops\n\nRegistration for this event is required. If you have any questions\, please contact Dianne Crossley at dcrossley@advocates.org or 508-298-1611.
URL:https://www.autismresourcecentral.org/event/blueenvelope/
LOCATION:Autism Resource Central\, 712 Plantation St.\,\, Worcester\, MA\, 01605\, United States
CATEGORIES:TEENS/YOUNG ADULTS
END:VEVENT
BEGIN:VEVENT
DTSTART;TZID=America/Halifax:20250319T183000
DTEND;TZID=America/Halifax:20250319T193000
DTSTAMP:20260419T085406
CREATED:20240826T182253Z
LAST-MODIFIED:20250319T143337Z
UID:8088-1742409000-1742412600@www.autismresourcecentral.org
SUMMARY:Evening Caregiver Support Group/Cancelled
DESCRIPTION:Evening support group for caregivers
URL:https://www.autismresourcecentral.org/event/evening-caregiver-support-group-2025-03-19/
LOCATION:Autism Resource Central\, 712 Plantation St.\,\, Worcester\, MA\, 01605\, United States
CATEGORIES:ADULTS,PARENTS
END:VEVENT
BEGIN:VEVENT
DTSTART;TZID=America/Halifax:20250327T153000
DTEND;TZID=America/Halifax:20250327T170000
DTSTAMP:20260419T085406
CREATED:20250301T212029Z
LAST-MODIFIED:20250301T212029Z
UID:8520-1743089400-1743094800@www.autismresourcecentral.org
SUMMARY:ASD Adults: Monthly Employment Meetup - Information
DESCRIPTION:New\, Starting in March – Monthly Employment Support Meetup: Are you Employed or looking for Employment? Would you like to meetup with peers to talk about challenges related to work or job seeking and celebrate successes? Then this new group may be for you. Group members will also work together to identify vocational related topics they would like to explore more in depth\, such as interviewing skills. Training sessions to address these topics will be arranged by trainers from the Autism Resource Community and /or trainers with specialized knowledge or experience in the subject matter. This is a monthly in-person group that will meet in Millbury from 3:30 – 5 PM on the fourth Thursday of the month. The first group is on March 27th. Click on flyer below if you would like to be contacted regarding further information about attending this group. This group is made possible through a new grant from the Doug Flutie Jr. Foundation. https://lp.constantcontactpages.com/ev/reg/3zsu7ww
URL:https://www.autismresourcecentral.org/event/asd-adults-monthly-employment-meetup-information/
LOCATION:Autism Resource Central\, 712 Plantation St.\,\, Worcester\, MA\, 01605\, United States
CATEGORIES:ADULTS
END:VEVENT
BEGIN:VEVENT
DTSTART;TZID=America/Halifax:20250329T183000
DTEND;TZID=America/Halifax:20250329T213000
DTSTAMP:20260419T085406
CREATED:20250220T192726Z
LAST-MODIFIED:20250220T192726Z
UID:8511-1743273000-1743283800@www.autismresourcecentral.org
SUMMARY:Caregiver Night Out
DESCRIPTION:Join other caregivers for a night of music\, good food\, dancing and fun. \n 
URL:https://www.autismresourcecentral.org/event/caregiver-night-out/
LOCATION:Pine Ridge Country Club\, 28 Pleasant Street\, N. Oxford\, MA\, 01537\, United States
CATEGORIES:FAMILIES,PARENTS
END:VEVENT
BEGIN:VEVENT
DTSTART;TZID=America/Halifax:20250406T100000
DTEND;TZID=America/Halifax:20250406T120000
DTSTAMP:20260419T085406
CREATED:20250328T190546Z
LAST-MODIFIED:20250328T190546Z
UID:8560-1743933600-1743940800@www.autismresourcecentral.org
SUMMARY:Springtime Fun
DESCRIPTION:Open to ages 12 and under \negg hunt\, crafts\, snacks
URL:https://www.autismresourcecentral.org/event/springtime-fun/
LOCATION:Bartlet’s Pond Way Sterling MA\, 3 Bartlet's Pond Way\, Sterling\, MA\, United States
CATEGORIES:FAMILIES,KIDS
END:VEVENT
BEGIN:VEVENT
DTSTART;TZID=America/Halifax:20250408T160000
DTEND;TZID=America/Halifax:20250408T180000
DTSTAMP:20260419T085406
CREATED:20250317T202926Z
LAST-MODIFIED:20250317T202926Z
UID:8543-1744128000-1744135200@www.autismresourcecentral.org
SUMMARY:ASD Adults: Card and Board Games\, 4/8/25
DESCRIPTION:ASD Adults: Card and Board Games\nJoin us for meeting up with others to play your choice of fun card and / board games. Come and\nplay one of our new 10 games\, recently purchased for the adults.\nhttps://lp.constantcontactpages.com/ev/reg/xxapxzh
URL:https://www.autismresourcecentral.org/event/asd-adults-card-and-board-games-4-8-25/
LOCATION:Autism Resource Central\, 712 Plantation St.\,\, Worcester\, MA\, 01605\, United States
CATEGORIES:ADULTS
END:VEVENT
BEGIN:VEVENT
DTSTART;TZID=America/Halifax:20250417T160000
DTEND;TZID=America/Halifax:20250417T180000
DTSTAMP:20260419T085406
CREATED:20250328T164457Z
LAST-MODIFIED:20250328T164457Z
UID:8557-1744905600-1744912800@www.autismresourcecentral.org
SUMMARY:ASD Adults: Paint & Decorate Bird Houses
DESCRIPTION:Join us for our ASD Adults April Craft Group to paint and decorate your own bird house. \nhttps://lp.constantcontactpages.com/ev/reg/425gxbv
URL:https://www.autismresourcecentral.org/event/asd-adults-paint-decorate-bird-houses/
LOCATION:Autism Resource Central\, 712 Plantation St.\,\, Worcester\, MA\, 01605\, United States
CATEGORIES:ADULTS
END:VEVENT
BEGIN:VEVENT
DTSTART;TZID=America/Halifax:20250419T090000
DTEND;TZID=America/Halifax:20250419T140000
DTSTAMP:20260419T085406
CREATED:20250328T192004Z
LAST-MODIFIED:20250328T192004Z
UID:8565-1745053200-1745071200@www.autismresourcecentral.org
SUMMARY:Autism Super Hero 5k 2025
DESCRIPTION:Open to all ages \n5k run/walk community event
URL:https://www.autismresourcecentral.org/event/autism-super-hero-5k-2025/
LOCATION:Polar Park\, 100 Madison ST\, Worcester\, MA\, 01608\, United States
CATEGORIES:ADULTS,EVERYBODY,FAMILIES,FUNDRAISERS,KIDS,PARENTS,PROFESSIONALS,Teens,TEENS/YOUNG ADULTS
END:VEVENT
BEGIN:VEVENT
DTSTART;TZID=America/Halifax:20250421T100000
DTEND;TZID=America/Halifax:20250421T120000
DTSTAMP:20260419T085406
CREATED:20250328T190359Z
LAST-MODIFIED:20250328T190359Z
UID:8559-1745229600-1745236800@www.autismresourcecentral.org
SUMMARY:Family and Friends Movie/ Minecraft
DESCRIPTION:Minecraft \nOpen to all ages
URL:https://www.autismresourcecentral.org/event/family-and-friends-movie-minecraft/
LOCATION:Entertainment Cinema\, 45 Sack Blvd\, Leominster\, MA\, 01453\, United States
CATEGORIES:FAMILIES,KIDS,PARENTS,Teens,TEENS/YOUNG ADULTS
END:VEVENT
BEGIN:VEVENT
DTSTART;TZID=America/Halifax:20250424T080000
DTEND;TZID=America/Halifax:20250424T170000
DTSTAMP:20260419T085406
CREATED:20250328T191028Z
LAST-MODIFIED:20250328T191028Z
UID:8561-1745481600-1745514000@www.autismresourcecentral.org
SUMMARY:Lego Group
DESCRIPTION:Open to ages 6-11 from 10am – 11 am and \nages 12-16 from 12pm-1:30pm
URL:https://www.autismresourcecentral.org/event/lego-group-4/
LOCATION:Autism Resource Central\, 712 Plantation St.\,\, Worcester\, MA\, 01605\, United States
CATEGORIES:KIDS,PARENTS,Teens,TEENS/YOUNG ADULTS
END:VEVENT
BEGIN:VEVENT
DTSTART;TZID=America/Halifax:20250425T110000
DTEND;TZID=America/Halifax:20250425T123000
DTSTAMP:20260419T085406
CREATED:20250328T191301Z
LAST-MODIFIED:20250328T191301Z
UID:8562-1745578800-1745584200@www.autismresourcecentral.org
SUMMARY:Tweens Craft Group
DESCRIPTION:crafts and friends \nAges 10-12
URL:https://www.autismresourcecentral.org/event/tweens-craft-group/
LOCATION:Autism Resource Central\, 712 Plantation St.\,\, Worcester\, MA\, 01605\, United States
CATEGORIES:FAMILIES,KIDS
END:VEVENT
BEGIN:VEVENT
DTSTART;TZID=America/Halifax:20250425T130000
DTEND;TZID=America/Halifax:20250425T143000
DTSTAMP:20260419T085406
CREATED:20250328T191503Z
LAST-MODIFIED:20250328T191503Z
UID:8563-1745586000-1745591400@www.autismresourcecentral.org
SUMMARY:Friendship Group Ages 13-17
DESCRIPTION:Games\, snacks and friends
URL:https://www.autismresourcecentral.org/event/friendship-group-ages-13-17-2/
LOCATION:Autism Resource Central\, 712 Plantation St.\,\, Worcester\, MA\, 01605\, United States
CATEGORIES:FAMILIES,PARENTS,Teens
END:VEVENT
BEGIN:VEVENT
DTSTART;TZID=America/Halifax:20250426T160000
DTEND;TZID=America/Halifax:20250426T200000
DTSTAMP:20260419T085406
CREATED:20250328T191811Z
LAST-MODIFIED:20250328T191811Z
UID:8564-1745683200-1745697600@www.autismresourcecentral.org
SUMMARY:WooSox Autism Acceptance Game
DESCRIPTION:Tickets are located in the Shaw’s Bullpen.  Tickets include buffet. \nOpen to all ages \nImmediate family only
URL:https://www.autismresourcecentral.org/event/woosox-autism-acceptance-game/
LOCATION:Polar Park\, 100 Madison ST\, Worcester\, MA\, 01608\, United States
CATEGORIES:ADULTS,EVERYBODY,FAMILIES,FUNDRAISERS,KIDS,PARENTS,PROFESSIONALS,Teens,TEENS/YOUNG ADULTS
END:VEVENT
BEGIN:VEVENT
DTSTART;TZID=America/Halifax:20250506T150000
DTEND;TZID=America/Halifax:20250506T163000
DTSTAMP:20260419T085406
CREATED:20250502T204741Z
LAST-MODIFIED:20250502T204741Z
UID:8581-1746543600-1746549000@www.autismresourcecentral.org
SUMMARY:ASD Adults: Sweet Treats Social
DESCRIPTION:Join us for an afternoon delicious\, sweet treat at the Bean Counter Bakery on Grove St. in Worcester. This event includes one bakery item and a medium\nsoft drink\, coffee\, or tea.
URL:https://www.autismresourcecentral.org/event/asd-adults-sweet-treats-social/
LOCATION:Autism Resource Central\, 712 Plantation St.\,\, Worcester\, MA\, 01605\, United States
CATEGORIES:ADULTS
END:VEVENT
BEGIN:VEVENT
DTSTART;TZID=America/Halifax:20250507T120000
DTEND;TZID=America/Halifax:20250507T130000
DTSTAMP:20260419T085406
CREATED:20240826T182020Z
LAST-MODIFIED:20250204T215443Z
UID:8099-1746619200-1746622800@www.autismresourcecentral.org
SUMMARY:Lunch Time Caregiver Support Group
DESCRIPTION:Lunch time support group for caregivers.
URL:https://www.autismresourcecentral.org/event/lunch-time-caregiver-support-group/2025-05-07/
LOCATION:Autism Resource Central\, 712 Plantation St.\,\, Worcester\, MA\, 01605\, United States
CATEGORIES:FAMILIES,PARENTS
END:VEVENT
BEGIN:VEVENT
DTSTART;TZID=America/Halifax:20250507T173000
DTEND;TZID=America/Halifax:20250507T190000
DTSTAMP:20260419T085406
CREATED:20250502T190524Z
LAST-MODIFIED:20250502T190524Z
UID:8587-1746639000-1746644400@www.autismresourcecentral.org
SUMMARY:Mother's Day Craft
DESCRIPTION:Open to ages \n6-10 years- 4:30-5:30 and \nAges 11-16 years 6-7
URL:https://www.autismresourcecentral.org/event/mothers-day-craft/
LOCATION:Autism Resource Central\, 712 Plantation St.\,\, Worcester\, MA\, 01605\, United States
CATEGORIES:FAMILIES,KIDS,PARENTS,Teens
END:VEVENT
BEGIN:VEVENT
DTSTART;TZID=America/Halifax:20250512T120000
DTEND;TZID=America/Halifax:20250512T130000
DTSTAMP:20260419T085406
CREATED:20250502T190807Z
LAST-MODIFIED:20250502T190807Z
UID:8588-1747051200-1747054800@www.autismresourcecentral.org
SUMMARY:How to Apply for DDS
DESCRIPTION:Assistance with applying for DDS
URL:https://www.autismresourcecentral.org/event/how-to-apply-for-dds/
LOCATION:Autism Resource Central\, 712 Plantation St.\,\, Worcester\, MA\, 01605\, United States
CATEGORIES:FAMILIES,PARENTS
END:VEVENT
BEGIN:VEVENT
DTSTART;TZID=America/Halifax:20250513T160000
DTEND;TZID=America/Halifax:20250513T180000
DTSTAMP:20260419T085406
CREATED:20250502T204646Z
LAST-MODIFIED:20250502T204646Z
UID:8583-1747152000-1747159200@www.autismresourcecentral.org
SUMMARY:ASD Adults: Miniature Garden
DESCRIPTION:  \nJoin our May craft group.\nBack this spring\, by popular demand\, come and create your unique miniature fairy or gnome garden from a variety of items. \n  \n  \n  \nhttps://lp.constantcontactpages.com/ev/reg/cgftjw8
URL:https://www.autismresourcecentral.org/event/asd-adults-miniature-garden/
LOCATION:Autism Resource Central\, 712 Plantation St.\,\, Worcester\, MA\, 01605\, United States
CATEGORIES:ADULTS
END:VEVENT
BEGIN:VEVENT
DTSTART;TZID=America/Halifax:20250514T080000
DTEND;TZID=America/Halifax:20250514T170000
DTSTAMP:20260419T085406
CREATED:20250502T191344Z
LAST-MODIFIED:20250502T191344Z
UID:8591-1747209600-1747242000@www.autismresourcecentral.org
SUMMARY:Cyber Bullying for 16+ years
DESCRIPTION:Presented by the Worcester County District Attorney’s Office \n 
URL:https://www.autismresourcecentral.org/event/cyber-bullying-for-16-years/
LOCATION:Autism Resource Central\, 712 Plantation St.\,\, Worcester\, MA\, 01605\, United States
CATEGORIES:FAMILIES,PARENTS,PROFESSIONALS,Teens,TEENS/YOUNG ADULTS
END:VEVENT
BEGIN:VEVENT
DTSTART;TZID=America/Halifax:20250516T173000
DTEND;TZID=America/Halifax:20250516T193000
DTSTAMP:20260419T085406
CREATED:20250502T191510Z
LAST-MODIFIED:20250502T191510Z
UID:8592-1747416600-1747423800@www.autismresourcecentral.org
SUMMARY:Family Bingo
DESCRIPTION:Open to all ages
URL:https://www.autismresourcecentral.org/event/family-bingo/
LOCATION:Packachoag Center\, 203 Packachoag Street\, Auburn\, MA\, 01501\, United States
CATEGORIES:ADULTS,EVERYBODY,FAMILIES,KIDS,PARENTS,Teens,TEENS/YOUNG ADULTS
END:VEVENT
BEGIN:VEVENT
DTSTART;TZID=America/Halifax:20250517T100000
DTEND;TZID=America/Halifax:20250517T120000
DTSTAMP:20260419T085406
CREATED:20250502T190230Z
LAST-MODIFIED:20250502T190230Z
UID:8586-1747476000-1747483200@www.autismresourcecentral.org
SUMMARY:SibShop
DESCRIPTION:Join us for snacks\, bingo and fun \nOpen to siblings ages 6-12
URL:https://www.autismresourcecentral.org/event/sibshop-8/
LOCATION:Autism Resource Central\, 712 Plantation St.\,\, Worcester\, MA\, 01605\, United States
CATEGORIES:FAMILIES,KIDS,PARENTS
END:VEVENT
BEGIN:VEVENT
DTSTART;TZID=America/Halifax:20250518T100000
DTEND;TZID=America/Halifax:20250518T160000
DTSTAMP:20260419T085406
CREATED:20250502T191007Z
LAST-MODIFIED:20250502T191007Z
UID:8589-1747562400-1747584000@www.autismresourcecentral.org
SUMMARY:Roger Williams Family Activity
DESCRIPTION:Tickets include admission to the Dinosaur Exhibit
URL:https://www.autismresourcecentral.org/event/roger-williams-family-activity/
LOCATION:Roger Williams Park Zoo\, 1000 Elmwood Ave\, Providence\, RI\, 02907\, United States
CATEGORIES:FAMILIES,KIDS,PARENTS,Teens,TEENS/YOUNG ADULTS
END:VEVENT
BEGIN:VEVENT
DTSTART;TZID=America/Halifax:20250521T180000
DTEND;TZID=America/Halifax:20250521T190000
DTSTAMP:20260419T085406
CREATED:20250502T191204Z
LAST-MODIFIED:20250502T191204Z
UID:8590-1747850400-1747854000@www.autismresourcecentral.org
SUMMARY:Cyber Bullying for Parents
DESCRIPTION:ZOOM \nPresented by the Worcester County District Attorney’s Office
URL:https://www.autismresourcecentral.org/event/cyber-bullying-for-parents/
LOCATION:Virtual
CATEGORIES:PARENTS,PROFESSIONALS
END:VEVENT
BEGIN:VEVENT
DTSTART;TZID=America/Halifax:20250521T183000
DTEND;TZID=America/Halifax:20250521T193000
DTSTAMP:20260419T085406
CREATED:20240826T182253Z
LAST-MODIFIED:20250219T185504Z
UID:8090-1747852200-1747855800@www.autismresourcecentral.org
SUMMARY:Evening Caregiver Support Group
DESCRIPTION:Evening support group for caregivers
URL:https://www.autismresourcecentral.org/event/evening-caregiver-support-group/2025-05-21/
LOCATION:Autism Resource Central\, 712 Plantation St.\,\, Worcester\, MA\, 01605\, United States
CATEGORIES:ADULTS,PARENTS
END:VEVENT
END:VCALENDAR