BEGIN:VCALENDAR
VERSION:2.0
PRODID:-//Autism Resource Center - ECPv6.15.20//NONSGML v1.0//EN
CALSCALE:GREGORIAN
METHOD:PUBLISH
X-WR-CALNAME:Autism Resource Center
X-ORIGINAL-URL:https://www.autismresourcecentral.org
X-WR-CALDESC:Events for Autism Resource Center
REFRESH-INTERVAL;VALUE=DURATION:PT1H
X-Robots-Tag:noindex
X-PUBLISHED-TTL:PT1H
BEGIN:VTIMEZONE
TZID:America/Halifax
BEGIN:DAYLIGHT
TZOFFSETFROM:-0400
TZOFFSETTO:-0300
TZNAME:ADT
DTSTART:20230312T060000
END:DAYLIGHT
BEGIN:STANDARD
TZOFFSETFROM:-0300
TZOFFSETTO:-0400
TZNAME:AST
DTSTART:20231105T050000
END:STANDARD
BEGIN:DAYLIGHT
TZOFFSETFROM:-0400
TZOFFSETTO:-0300
TZNAME:ADT
DTSTART:20240310T060000
END:DAYLIGHT
BEGIN:STANDARD
TZOFFSETFROM:-0300
TZOFFSETTO:-0400
TZNAME:AST
DTSTART:20241103T050000
END:STANDARD
BEGIN:DAYLIGHT
TZOFFSETFROM:-0400
TZOFFSETTO:-0300
TZNAME:ADT
DTSTART:20250309T060000
END:DAYLIGHT
BEGIN:STANDARD
TZOFFSETFROM:-0300
TZOFFSETTO:-0400
TZNAME:AST
DTSTART:20251102T050000
END:STANDARD
END:VTIMEZONE
BEGIN:VEVENT
DTSTART;TZID=America/Halifax:20240320T170000
DTEND;TZID=America/Halifax:20240320T183000
DTSTAMP:20260423T045036
CREATED:20240319T203316Z
LAST-MODIFIED:20240319T203316Z
UID:7890-1710954000-1710959400@www.autismresourcecentral.org
SUMMARY:Friendship Group
DESCRIPTION:Come socialize\, make some friends\, and have some fun. There will snacks and drinks. Registration required. This is not a drop off event.  Parents come spend time with other parents while you child enjoys the group. Ages 13-17
URL:https://www.autismresourcecentral.org/event/friendship-group-2/
LOCATION:Autism Resource Central\, 712 Plantation St.\,\, Worcester\, MA\, 01605\, United States
CATEGORIES:FAMILIES,PARENTS,TEENS/YOUNG ADULTS
END:VEVENT
BEGIN:VEVENT
DTSTART;TZID=America/Halifax:20240320T180000
DTEND;TZID=America/Halifax:20240320T200000
DTSTAMP:20260423T045036
CREATED:20240201T221616Z
LAST-MODIFIED:20240201T221616Z
UID:7818-1710957600-1710964800@www.autismresourcecentral.org
SUMMARY:Basic Rights  Transition Planning
DESCRIPTION:Presented by the Federation for Children with Special Needs.  Basic Rights Transition planning for parents.
URL:https://www.autismresourcecentral.org/event/basic-rights-transition-planning-2/
LOCATION:Virtual
CATEGORIES:PARENTS
END:VEVENT
BEGIN:VEVENT
DTSTART;TZID=America/Halifax:20240321T173000
DTEND;TZID=America/Halifax:20240321T213000
DTSTAMP:20260423T045036
CREATED:20231003T194841Z
LAST-MODIFIED:20240318T230214Z
UID:7453-1711042200-1711056600@www.autismresourcecentral.org
SUMMARY:Teen Movie Night
DESCRIPTION:Join us at Steves’s Pizza and then to the West Boylston Cinema for fun movie entertainment.  Movie TBD
URL:https://www.autismresourcecentral.org/event/teen-movie-night/
LOCATION:Steve’s Pizza\, 341 West Boylston St\, West Boylston\, MA\, 01583\, United States
CATEGORIES:FAMILIES,PARENTS,TEENS/YOUNG ADULTS
END:VEVENT
END:VCALENDAR