BEGIN:VCALENDAR
VERSION:2.0
PRODID:-//Autism Resource Center - ECPv6.15.20//NONSGML v1.0//EN
CALSCALE:GREGORIAN
METHOD:PUBLISH
X-WR-CALNAME:Autism Resource Center
X-ORIGINAL-URL:https://www.autismresourcecentral.org
X-WR-CALDESC:Events for Autism Resource Center
REFRESH-INTERVAL;VALUE=DURATION:PT1H
X-Robots-Tag:noindex
X-PUBLISHED-TTL:PT1H
BEGIN:VTIMEZONE
TZID:America/Halifax
BEGIN:DAYLIGHT
TZOFFSETFROM:-0400
TZOFFSETTO:-0300
TZNAME:ADT
DTSTART:20230312T060000
END:DAYLIGHT
BEGIN:STANDARD
TZOFFSETFROM:-0300
TZOFFSETTO:-0400
TZNAME:AST
DTSTART:20231105T050000
END:STANDARD
BEGIN:DAYLIGHT
TZOFFSETFROM:-0400
TZOFFSETTO:-0300
TZNAME:ADT
DTSTART:20240310T060000
END:DAYLIGHT
BEGIN:STANDARD
TZOFFSETFROM:-0300
TZOFFSETTO:-0400
TZNAME:AST
DTSTART:20241103T050000
END:STANDARD
BEGIN:DAYLIGHT
TZOFFSETFROM:-0400
TZOFFSETTO:-0300
TZNAME:ADT
DTSTART:20250309T060000
END:DAYLIGHT
BEGIN:STANDARD
TZOFFSETFROM:-0300
TZOFFSETTO:-0400
TZNAME:AST
DTSTART:20251102T050000
END:STANDARD
END:VTIMEZONE
BEGIN:VEVENT
DTSTART;TZID=America/Halifax:20240324T100000
DTEND;TZID=America/Halifax:20240324T133000
DTSTAMP:20260423T042418
CREATED:20240223T205347Z
LAST-MODIFIED:20240322T152230Z
UID:7861-1711274400-1711287000@www.autismresourcecentral.org
SUMMARY:Egg Hunt
DESCRIPTION:This event is rescheduled to Sunday\, March 24. If you need to change your arrival time\, please text Julie at 508-918-5197.   \nThis event is recommended for children 12 and under. We will provide a basket to collect your eggs in. Come visit with the Bunny and have the opportunity to collect filled eggs in the field. Get your picture taken with the Bunny too! \nIf your child is 12 and older and would enjoy a visit with Bunny Please let us know. \ncontact Jlebeau@hmea.org to register \n\n\n 
URL:https://www.autismresourcecentral.org/event/egg-hunt/
LOCATION:Bartlet’s Pond Way Sterling MA\, 3 Bartlet's Pond Way\, Sterling\, MA\, United States
CATEGORIES:FAMILIES,KIDS,PARENTS
END:VEVENT
BEGIN:VEVENT
DTSTART;TZID=America/Halifax:20240326T170000
DTEND;TZID=America/Halifax:20240326T180000
DTSTAMP:20260423T042418
CREATED:20240319T203701Z
LAST-MODIFIED:20240319T203701Z
UID:7891-1711472400-1711476000@www.autismresourcecentral.org
SUMMARY:Penguins and Toboggans with Challenge Island
DESCRIPTION:Join us for a fun S.T.E.A.M. program with Challenge Island on Tuesday\, March 26 at 5:00pm. Build your own toboggans and race penguins to the bottom. Learn about the habitat of penguins along with kinetic energy\, velocity and more.  Ages 7-10 \nRegistration is required. Limited spots available. \nQuestions contact Julie at 508-298-1610
URL:https://www.autismresourcecentral.org/event/penguins-and-toboggans-with-challenge-island/
LOCATION:Autism Resource Central\, 712 Plantation St.\,\, Worcester\, MA\, 01605\, United States
CATEGORIES:FAMILIES,KIDS,PARENTS
END:VEVENT
BEGIN:VEVENT
DTSTART;TZID=America/Halifax:20240327T170000
DTEND;TZID=America/Halifax:20240327T183000
DTSTAMP:20260423T042418
CREATED:20240319T202836Z
LAST-MODIFIED:20240320T160851Z
UID:7889-1711558800-1711564200@www.autismresourcecentral.org
SUMMARY:Friendship Group
DESCRIPTION:Come socialize\, make some friends\, and have some fun. There will snacks and drinks. Registration required. This is not a drop off event.  Parents come spend time with other parents while you child enjoys the group. Ages 13-17
URL:https://www.autismresourcecentral.org/event/friendship-group/
LOCATION:Autism Resource Central\, 712 Plantation St.\,\, Worcester\, MA\, 01605\, United States
CATEGORIES:FAMILIES,PARENTS,TEENS/YOUNG ADULTS
END:VEVENT
BEGIN:VEVENT
DTSTART;TZID=America/Halifax:20240328T160000
DTEND;TZID=America/Halifax:20240328T170000
DTSTAMP:20260423T042418
CREATED:20240319T203943Z
LAST-MODIFIED:20240319T203943Z
UID:7892-1711641600-1711645200@www.autismresourcecentral.org
SUMMARY:Drawing with Artist Stephen Perkins
DESCRIPTION:Come join\, Classical Artist\, Stephen Perkins who is volunteering to teach a monthly drawing class at HMEA’s Autism Resource Central\, 712 Plantation Street\, Worcester. He will start with the basics of shapes and tones and move on from there.  Ages 13-15 \nRegistration is required. Space is limited.
URL:https://www.autismresourcecentral.org/event/drawing-with-artist-stephen-perkins/
LOCATION:Autism Resource Central\, 712 Plantation St.\,\, Worcester\, MA\, 01605\, United States
CATEGORIES:FAMILIES,PARENTS,TEENS/YOUNG ADULTS
END:VEVENT
END:VCALENDAR